BEGIN:VCALENDAR
VERSION:2.0
PRODID:-//SVP Niedergösgen //NONSGML Events //EN
CALSCALE:GREGORIAN
X-WR-CALNAME:SVP Niedergösgen
BEGIN:VEVENT
CREATED:20260419T102405Z
UID:1500
DTEND:20260618T213000
DTSTART:20260618T193000
DTSTAMP:20260424T041229Z
LOCATION:Mehrzweckhalle Niedergösgen
DESCRIPTION:Donnerstag, 18. Juni 2026, 19:30 UhrÖffentliche Veranstaltung: EU-Rah
SUMMARY:Öffentliche Veranstaltung zu EU-Rahmenverträge und Neutralitätsinitiative
ORGANIZER:
URL;VALUE=URI:https://www.svp-niedergoesgen.ch/termine/oeffentliche-veranstaltung-zu-eu-rahmenvertraege-und-neutralitaetsinitiative/
TRANSP:OPAQUE
END:VEVENT
END:VCALENDAR
