BEGIN:VCALENDAR
VERSION:2.0
PRODID:-//SVP Niedergösgen //NONSGML Events //EN
CALSCALE:GREGORIAN
X-WR-CALNAME:SVP Niedergösgen
BEGIN:VEVENT
CREATED:20260309T102351Z
UID:1472
DTEND:20260424T200000
DTSTART:20260424T193000
DTSTAMP:20260424T023939Z
LOCATION:Hofis Barockbar\, Bifangweg 2\, 4702 Oensingen
DESCRIPTION:
SUMMARY:Generalversammlung der SVP Thal-Gäu
ORGANIZER:
URL;VALUE=URI:https://www.svp-niedergoesgen.ch/termine/generalversammlung-der-svp-thal-gaeu/
TRANSP:OPAQUE
END:VEVENT
END:VCALENDAR
